BEGIN:VCALENDAR
VERSION:2.0
PRODID:-//Church Tech Expo - ECPv4.9.1//NONSGML v1.0//EN
CALSCALE:GREGORIAN
METHOD:PUBLISH
X-WR-CALNAME:Church Tech Expo
X-ORIGINAL-URL:http://churchtechexpo.com.br
X-WR-CALDESC:Eventos para Church Tech Expo
BEGIN:VEVENT
DTSTART;TZID=UTC+0:20170817T000000
DTEND;TZID=UTC+0:20170919T000000
DTSTAMP:20260423T215820
CREATED:20170721T082820Z
LAST-MODIFIED:20170721T082820Z
UID:114-1502928000-1505779200@churchtechexpo.com.br
SUMMARY:Innovative With Experience - Tech 2017
DESCRIPTION:The rising stars of the events industry have been revealed after Exhibition News announced its list of the newest recruits to its ’Thirty Under 30’ group. Now into its third year\, the intention of the EN 30/30 is to highlight the leading talents who seem set to play a big part in the future of the industry. Livesay\, the leading vent registration\, website and staffing provider\, is a key supporter of this initiative and has sponsored the initiative for past couple of years.  For 2017’s Livesay is also represented within the EN 30/30 group by one of its rising stars\,  senior exhibition services manager Rachael Williamson.\nCommenting on the announcement of this year’s list\, Justin Craig\, joint managing director at Livesay\, said: “It’s wonderful to see that Rachael\, one of the leading lights of our organisation\, has been recognised within this group of high flyers. Rachael joined Livesay over four years. \n
URL:http://churchtechexpo.com.br/evento/innovative-with-experience-tech-2017/
LOCATION:Merlbourn\, 124 New Design Street\, Melbourne 005\, T +1 (800) 433 544 E\, 3544\, Australia
CATEGORIES:Technology
ATTACH;FMTTYPE=image/png:http://churchtechexpo.com.br/wp-content/uploads/2017/07/blog3.png
END:VEVENT
END:VCALENDAR